BEGIN:VCALENDAR
VERSION:2.0
PRODID:-//Colette Lotti - ECPv6.6.3//NONSGML v1.0//EN
CALSCALE:GREGORIAN
METHOD:PUBLISH
X-ORIGINAL-URL:http://www.colette-lotti.fr
X-WR-CALDESC:évènements pour Colette Lotti
REFRESH-INTERVAL;VALUE=DURATION:PT1H
X-Robots-Tag:noindex
X-PUBLISHED-TTL:PT1H
BEGIN:VTIMEZONE
TZID:Europe/Paris
BEGIN:DAYLIGHT
TZOFFSETFROM:+0100
TZOFFSETTO:+0200
TZNAME:CEST
DTSTART:20210328T010000
END:DAYLIGHT
BEGIN:STANDARD
TZOFFSETFROM:+0200
TZOFFSETTO:+0100
TZNAME:CET
DTSTART:20211031T010000
END:STANDARD
END:VTIMEZONE
BEGIN:VEVENT
DTSTART;TZID=Europe/Paris:20210721T150000
DTEND;TZID=Europe/Paris:20210727T190000
DTSTAMP:20260421T153409
CREATED:20201218T104105Z
LAST-MODIFIED:20201218T104113Z
UID:573-1626879600-1627412400@www.colette-lotti.fr
SUMMARY:Exposition individuelle en Juillet 2021
DESCRIPTION:Du 21 au 27 Juillet 2021\, je présenterai mes œuvres les plus récentes\, plusieurs sculptures\,  peintures à l’huile\, acryliques et aquarelles. \nL’office de tourisme de Damgan\, dans le Morbihan\, met à ma disposition une salle claire à l’accès facile. \nJe serai présente tous les après-midi de 15h à 19h et heureuse de vous accueillir dans mon univers. \nAccueil
URL:http://www.colette-lotti.fr/event/exposition-individuelle-en-juillet-2021/
LOCATION:Office de tourisme\, Place Tiffoche\, Damgan\, 56190\, France
END:VEVENT
BEGIN:VEVENT
DTSTART;TZID=Europe/Paris:20210501T140000
DTEND;TZID=Europe/Paris:20210531T180000
DTSTAMP:20260421T153409
CREATED:20200627T161819Z
LAST-MODIFIED:20200627T161835Z
UID:570-1619877600-1622484000@www.colette-lotti.fr
SUMMARY:Exposition peinture\, sculpture et art contemporain au moulin de Pen Castel Arzon
DESCRIPTION:Tout le mois de Mai 2021\, \nDans ce lieu unique entouré des eaux bleues du Golfe du Morbihan\, je vous propose de découvrir l’évolution de mon travail sur les robes noires en Bretagne. \nJ’aurai le plaisir de vous présenter des œuvres figuratives\, abstraites et contemporaines. \nLe style de mes créations varie en fonction des différents matériaux (textiles\, peinture industrielle\, métaux\, etc…) et différentes techniques utilisées. \nLe Moulin de Pen Castel sera ouvert les mercredi\, jeudi\, vendredi\, samedi et dimanche l’après-midi de 14 h à 19 h.
URL:http://www.colette-lotti.fr/event/exposition-peinture-sculpture-et-art-contemporain-au-moulin-de-pen-castel-arzon/
LOCATION:Moulin de Pen Castel\, Arzon\, Presqu'île de Ruys\, Mobihan\, 56640\, France
END:VEVENT
END:VCALENDAR